BEGIN:VCALENDAR
METHOD:PUBLISH
PRODID:www-phil-fau-eu//Events//EN
VERSION:2.0
BEGIN:VEVENT
SUMMARY:Buchvorstellung. Das Ende rechter Räumen - zur Territorialisi
 erung der radikalen Rechten (Dr. Johann Braun\, Heidelberg)
UID:CDDEB7E5-015E-4393-A712-E7AED3019701
DESCRIPTION:12.30 &#8211\; 14 Uhr: Buchvorstellung von Dr. Johann Brau
 n (Heidelberg) &#8211\; Das Ende rechter Räumen &#8211\; zur Territor
 ialisierung der radikalen Rechten Seminarraum 00.210\, Erlangen-Tennen
 lohe\, Wetterkreuz 15 Weitere Informationen: https://www.geographie.na
 t.fau.de/kolloquiumsvortrag-kg-buchvorstellung-das-ende-rechter-raeume
 -21-5-2025
DTSTART:20250521T103000Z
DTEND:20250521T120000Z
LOCATION:Seminarraum 00.210\, Wetterkreuz 15\, Erlangen-Tennenlohe
DTSTAMP:20260420T213751Z
END:VEVENT
END:VCALENDAR