BEGIN:VCALENDAR
METHOD:PUBLISH
PRODID:www-phil-fau-eu//Events//EN
VERSION:2.0
BEGIN:VEVENT
SUMMARY:Gastvortrag: Afro-Atlantische Katholiken. Eine neue Geschichte
  des afroamerikanischen Christentums (Prof. Dr. Jeroen Dewulf\, Univer
 sity of California\, Berkeley)
UID:040000008200E00074C5B7101A82E00800000000E04D59CB73C5DB010000000000
 00000010000000641BEC7C7C99434FAF8B1FEA4C22B5C6
DESCRIPTION:Gastvortrag 18.15 &#8211\; 19.45 Uhr: Afro-Atlantische Kat
 holiken. Eine neue Geschichte des afroamerikanischen Christentums (Pro
 f. Dr. Jeroen Dewulf\, University of California\, Berkeley) Hörsaal B
 \, Theologisches Seminargebäude\, Kochstraße 6\, Erlangen
DTSTART:20250521T140000Z
DTEND:20250521T160000Z
LOCATION:Hörsaal B\, Theologisches Seminargebäude\, Kochstraße 6\, 
 Erlangen
DTSTAMP:20260420T213649Z
END:VEVENT
END:VCALENDAR