BEGIN:VCALENDAR
METHOD:PUBLISH
PRODID:www-phil-fau-eu//Events//EN
VERSION:2.0
BEGIN:VEVENT
SUMMARY:Gastvortrag: Literatur als Widerstand: Niederländische Widers
 tandsliteratur während der deutschen Besatzung (1940-1945) (Jeroen De
 wulf\, UC Berkeley)
UID:040000008200E00074C5B7101A82E0080000000010306CAA99C8DB010000000000
 00000010000000F30F84FC0EA4B540AEBCE4E5079919EC
DESCRIPTION:Donnerstag\, 22.05.2025\, 18:00 Uhr (B 302\, Bismarckstra
 ße 1) Studiengang Ethik der Textkulturen Gastvortrag: Literatur als W
 iderstand: Niederländische Widerstandsliteratur während der deutsche
 n Besatzung (1940-1945) Von Mai 1940 bis Mai 1945 waren die Niederland
 e von Nazi-Deutschland besetzt. Dieser Vortrag analysiert die niederl
 ändische Reaktion auf die Besatzung aus der Perspektive der Widerstan
 dsliteratur. Obwohl in allen Ländern unter nationalsozialistischer Be
 satzung Widerstandsliteratur veröffentlicht wurde\, erlebte sie nirge
 nds sonst eine so große Blüte wie in den Niederlanden. Dies wirft wi
 chtige Fragen auf: Welche Risiken waren mit dem Schreiben\, Drucken\, 
 Verkaufen und Kaufen dieser Literatur verbunden? Was war der Inhalt di
 eser Literatur? Und warum wurde sie gerade in den Niederlanden so wich
 tig? In all ihrer Komplexität bietet die Widerstandsliteratur eine ei
 nzigartige Perspektive auf die niederländische Gesellschaft unter deu
 tscher Besatzung und auf die Nachkriegsdebatten über Kollaboration un
 d Widerstand. Offen für alle Interessierten! Im Anschluss an den Vort
 rag besteht die Möglichkeit zur gemeinsamen Diskussion.
DTSTART:20250522T160000Z
DTEND:20250522T180000Z
LOCATION:B 302\, Bismarckstraße 1\, Erlangen
DTSTAMP:20260420T213516Z
END:VEVENT
END:VCALENDAR