BEGIN:VCALENDAR
METHOD:PUBLISH
PRODID:www-phil-fau-eu//Events//EN
VERSION:2.0
BEGIN:VEVENT
SUMMARY:Vortrag: Die Moralisierung der Politik. Eine Gefahr für Demok
 ratie und Zusammenhalt? (Dr. Cord Schmelzle\, Goethe-Universität Fran
 kfurt)
UID:29EBBB6E-F6F5-464D-896E-B4805E219D0E
DESCRIPTION:Vortrag: "Die Moralisierung der Politik. Eine Gefahr für 
 Demokratie und Zusammenhalt? (Dr. Cord Schmelzle\, Goethe-Universität
  Frankfurt) Montag\, 26. Mai 2025\, 18 Uhr c.t. Raum 00024\, Kollegien
 haus\, Erlangen Der Vortrag findet statt im Rahmen des Colloquiums des
  Lehrstuhls Politische Theorie und Ideengeschichte. Eine Anmeldung ist
  nicht notwendig.
DTSTART:20250526T161500Z
DTEND:20250526T174500Z
LOCATION:Raum 00024\, Kollegienhaus\, Erlangen
DTSTAMP:20260420T213650Z
END:VEVENT
END:VCALENDAR