BEGIN:VCALENDAR
METHOD:PUBLISH
PRODID:www-phil-fau-eu//Events//EN
VERSION:2.0
BEGIN:VEVENT
SUMMARY:Tagung: Verführende Räume: Funktionen und Wirkmechanismen vo
 n multisensorischen Bild-Raum-Ensembles (16.-21. Jh.)
UID:50C39FF6-19DC-4DF4-84BC-9547CF55BB5F
DESCRIPTION:Tagung: Verführende Räume: Funktionen und Wirkmechanisme
 n von multisensorischen Bild-Raum-Ensembles (16.-21. Jh.) 2. &#8211\; 
 3. Juni 2025 Kreuz &#43\; Quer &#8211\; Haus der Kirche Erlangen\, Boh
 lenplatz 1\, 91054 Erlangen Um Anmeldung wird gebeten: maren.manzl@fau
 .de Programm und weitere Informationen: https://www.kunstgeschichte.ph
 il.fau.de/2025/01/30/verfuehrende-raeume/#call-for-papers-abgeschlosse
 n
DTSTART:20250602T071500Z
DTEND:20250603T160000Z
LOCATION:Kreuz + Quer - Haus der Kirche Erlangen\, Bohlenplatz 1\, 910
 54 Erlangen
DTSTAMP:20260420T213642Z
END:VEVENT
END:VCALENDAR