BEGIN:VCALENDAR
METHOD:PUBLISH
PRODID:www-phil-fau-eu//Events//EN
VERSION:2.0
BEGIN:VEVENT
SUMMARY:Vortrag: Sozialtheorie und Gesellschaftstheorie - eine Gebrauc
 hsanweisung (Dr. Fabian Anicker\, Universität Düsseldorf)
UID:248BF3A5-9B7D-4D90-8E33-6DD690453EA3
DESCRIPTION:Vortrag: "Sozialtheorie und Gesellschaftstheorie &#8211\; 
 eine Gebrauchsanweisung" (Dr. Fabian Anicker\, Universität Düsseldor
 f) 18.15 Uhr &#8211\; 19.45 Uhr\; Raum 5.013\, Kochstraße 4\, Erlange
 n Online-Teilnahme (via Zoom möglich): https://fau.zoom-x.de/j/502432
 7315 Kontakt und Voranmeldung bei Online-Teilnahme: alexander.antony@f
 au.de
DTSTART:20250602T161500Z
DTEND:20250602T174500Z
LOCATION:Hybrid: Raum 5.013\, Kochstraße 4\, Erlangen und online via Zoom
DTSTAMP:20260420T214346Z
END:VEVENT
END:VCALENDAR