BEGIN:VCALENDAR
METHOD:PUBLISH
PRODID:www-phil-fau-eu//Events//EN
VERSION:2.0
BEGIN:VEVENT
SUMMARY:Vortrag: Scrolling into Science - Zusammenhänge zwischen Soci
 al Media und Fachinteresse von Schüler*innen (Markus Stocker\, FAU)
UID:E7D825A8-4C78-4302-8E2D-FA4856EA45ED
DESCRIPTION:Vortrag im Rahmen des interdisziplinären Forschungskolloq
 uiums Bildungsforschung: empirisch &#8211\; interdisziplinär! Early c
 areer researchers im Dialog 11:30 &#8211\; 13:00 Uhr: "Scrolling into 
 Science &#8211\; Zusammenhänge zwischen Social Media und Fachinteress
 e von Schüler*innen" (Markus Stocker\, FAU) Hybrid: Raum 2.040\, Rege
 nsburger Straße 160\, 90478 Nürnberg und online via Zoom Zoom-Link: 
 https://fau.zoom-x.de/j/67431129579?pwd=lrAcSML7fxJBi04q0zwjXlVEC3lNyf
 .1 Weitere Informationen: https://www.studon.fau.de/studon/goto.php?ta
 rget=crs_4363273
DTSTART:20250604T093000Z
DTEND:20250604T110000Z
LOCATION:Hybrid: Raum 2.040\, Regensburger Straße 160\, 90478 Nürnbe
 rg und online via Zoom
DTSTAMP:20260420T213644Z
END:VEVENT
END:VCALENDAR