BEGIN:VCALENDAR
METHOD:PUBLISH
PRODID:www-phil-fau-eu//Events//EN
VERSION:2.0
BEGIN:VEVENT
SUMMARY:Digital Humanities Colloquium: MA projects (workshop reports):
  Shuyi Li\, DHSS\, FAU: Understandings of explainable AI (XAI) in rese
 arch communities. A mixed-method approach using topic modelling and SN
 A MA projects (workshop reports): Adrian Schneider\,
UID:50D24857-4078-4B49-B136-D3E24E45AD1D
DESCRIPTION:Digital Humanities Colloquium Time: Wednesdays\, 4:00 PM t
 o 6:00 PM Location: Room 3.17 (3rd floor)\, Werner-von-Siemens-Straße
  61\, 91052 Erlangen Registration for attending the colloquium talks i
 s NOT required. Talks\, Projects + Thesis Presentations (Talks will be
  held in English.) Date Agenda 23.04.2025 Introduction 30.04.2025 Mich
 aela Mahlberg\, DHSS FAU: How Do You Write a Good MA Dissertation in D
 igital Humanities? 7.05.2025 Katrin Rohrbacher\, DHSS FAU: Modeling Fi
 ctional Worlds: A Quantitative Approach to Setting 14.05.2025 MA proje
 cts (workshop reports): Cristian Ortega\, DHSS FAU: Corpus creation an
 d analysis: a mixed-methods approach to corporeality in poetry slam te
 xtsHyunsook Kim\, DHSS FAU: Nam June Paik&#8217\;s A Tribute to John C
 age: Linking Data in Contemporary Art Using Semantic Principles 21.05.
 2025 Svenja Guhr\, Institut für Sprach- und Literaturwissenschaft\, T
 echnische Universität Darmstadt: Literary Soundscapes &#8211\; Operat
 ionalization and Analysis 28.05.2025 Lauren Tilton\, Department of Rhe
 toric and Communications\, University of Richmond : Distant Viewing: A
 I In Theory and Practice 4.06.2025 MA projects (workshop reports): Mor
 itz Meckl\, DHSS\, FAU: Die Relevanz von Wahrheitsgehalt von KI Einsat
 z in Werbung 11.06.2025 MA projects (workshop reports): Shuyi Li\, DHS
 S\, FAU: Understandings of explainable AI (XAI) in research communitie
 s. A mixed-method approach using topic modelling and SNA MA projects (
 workshop reports): Adrian Schneider\, DHSS\, FAU: Smart\, green\, sust
 ainable? The role of sustainability in German smart city strategy pape
 rs. 18.06.2025 Dominik Kremer\, DHSS\, FAU: Getting engaged: a call fo
 r more than digitising Digital Humanities 25.06.2025 Finn Dammann\, Ge
 ographie\, FAU: Geographies of digital infrastructures 2.07.2025 Marku
 s Tischner\, FAU Lehre: From prompt engineering workflows to custom gp
 ts. Introduction and live development 9.07.2025 PhD projects (workshop
  reports): Marizza Anna Mercario\, Visiting researcher\\
DTSTART:20250611T140000Z
DTEND:20250611T160000Z
LOCATION:Room 3.17 (3rd floor)\, Werner-von-Siemens-Straße 61\, 91052
  Erlangen
DTSTAMP:20260420T213752Z
END:VEVENT
END:VCALENDAR