BEGIN:VCALENDAR
METHOD:PUBLISH
PRODID:www-phil-fau-eu//Events//EN
VERSION:2.0
BEGIN:VEVENT
SUMMARY:Vortrag: Moral Education and the Policy-making Process in Japa
 nese Education (Prof. Dr. Sam Bamkin\, University of Tokyo)
UID:03FF9CC9-2306-491A-9734-609A42E0CDC2
DESCRIPTION:Vortrag: Moral Education and the Policy-making Process in 
 Japanese Education (Prof. Dr. Sam Bamkin\, University of Tokyo) Montag
 \, 16.06.2025 von 12.15 &#8211\; 13.45 Uhr Raum SR 01.030\, Paul-Gorda
 n-Str. 3-5\, 91052 Erlangen Weitere Informationen finden Sie auf der H
 omepage des Lehrstuhls:https://www.japanologie.phil.fau.de/2025/05/20/
 vortrag-von-prof-dr-sam-bamkin-university-of-tokyo/
DTSTART:20250616T101500Z
DTEND:20250616T114500Z
LOCATION:Raum SR 01.030\, Paul-Gordan-Str. 3-5\, 91052 Erlangen
DTSTAMP:20260420T213608Z
END:VEVENT
END:VCALENDAR