BEGIN:VCALENDAR
METHOD:PUBLISH
PRODID:www-phil-fau-eu//Events//EN
VERSION:2.0
BEGIN:VEVENT
SUMMARY:Vortrag: Vom Nutzen soziologischer Theorien für die Beratungs
 praxis - dargestellt am Beispiel der Entwicklung und Implementierung e
 ines Führungsmodells bei der Bundesagentur für Arbeit (Dr. Hanjo Ger
 gs\, Nürnberg)
UID:DB9E8603-D50B-4F48-AB98-D60E96D0CAD6
DESCRIPTION:Veranstaltungen im Rahmen des Oberseminars Neuere Forschun
 gen der Arbeits- und Organisationssoziologie Sommersemester 2025 10:15
  &#8211\; 11:45 Uhr\, Raum 00.5 PSG\, Kochstr.6a\, Erlangen und online
  via Zoom Link: https://fau.zoom-x.de/j/69690796716?pwd=ctF1sD1AgpeICD
 FzxsWydV0YbmyZU3.1 Meeting-ID: 696 9079 6716 Kenncode: 300299 17.06.25
  Dr. Hanjo Gergs (Nürnberg) Vom Nutzen soziologischer Theorien für d
 ie Beratungspraxis &#8211\; dargestellt am Beispiel der Entwicklung un
 d Implementierung eines Führungsmodells bei der Bundesagentur für Ar
 beit 24.06.25 Dr. Werner Schmidt (F.A.T.K. Tübingen) Personalräte. S
 trategien\, Arbeitsweise und Selbstverständnis von Personalvertretung
 en im öffentlichen Dienst 01.07.25 Prof. em. Dr. Rudi Schmidt (Erlang
 en) Privateigentum. Ein basales Konzept 15.07.25 Dr. Ronald Staples (E
 rlangen) Nach dem Stolz. Identitätskonstruktionen in Tranformationsge
 sellschaften. Eine Diskussion zu Stolen Pride von A. R. Hochschild Wei
 tere Informationen: https://www.soziologie.phil.fau.de
DTSTART:20250617T081500Z
DTEND:20250617T094500Z
LOCATION:Hybrid: Raum 00.5 PSG\, Kochstr.6a\, Erlangen und online via Zoom
DTSTAMP:20260420T213642Z
END:VEVENT
END:VCALENDAR