BEGIN:VCALENDAR
METHOD:PUBLISH
PRODID:www-phil-fau-eu//Events//EN
VERSION:2.0
BEGIN:VEVENT
SUMMARY:KoWinChi-Workshop: Wissenschaftsfreiheit und -ethik in Deutsch
 land und China (Prof. Dr. Marc Matten)
UID:A74C0BBE-22DE-4BEA-80FF-47F497EEA03D
DESCRIPTION:KoWinChi-Workshop 10:00 &#8211\; 16:00 Uhr: Wissenschaftsf
 reiheit und -ethik in Deutschland und China (Prof. Dr. Marc Matten) C 
 202\, Bismarckstraße 1\, 91054 Erlangen Weitere Informationen: https:
 //www.phil.uni-wuerzburg.de/kowinchi/veranstaltungen/upcoming/news/def
 ault-8314e69e106ed263fa6bdb5965b0f26f/
DTSTART:20250620T080000Z
DTEND:20250620T140000Z
LOCATION:C 202\, Bismarckstraße 1\, 91054 Erlangen
DTSTAMP:20260420T214254Z
END:VEVENT
END:VCALENDAR