BEGIN:VCALENDAR
METHOD:PUBLISH
PRODID:www-phil-fau-eu//Events//EN
VERSION:2.0
BEGIN:VEVENT
SUMMARY:KoWinChi-Workshop: Rechtsfragen der Wissenschaftskooperation m
 it China (Prof. Dr. Björn Alpermann und Dr. Daniel Sprick)
UID:E8029445-CF51-42D9-857D-B4E7B841AB55
DESCRIPTION:KoWinChi-Workshop 09:00 &#8211\; 15:00 Uhr: Rechtsfragen d
 er Wissenschaftskooperation mit China (Prof. Dr. Björn Alpermann und 
 Dr. Daniel Sprick) Hartmannstraße\, 91052 Erlangen Weitere Informatio
 nen: https://www.phil.uni-wuerzburg.de/kowinchi/veranstaltungen/upcomi
 ng/news/rechtsfragen-der-wissenschaftskooperation-mit-china-1-1-1/
DTSTART:20250624T070000Z
DTEND:20250624T130000Z
LOCATION:Hartmannstraße\, 91052 Erlangen
DTSTAMP:20260420T213649Z
END:VEVENT
END:VCALENDAR