BEGIN:VCALENDAR
METHOD:PUBLISH
PRODID:www-phil-fau-eu//Events//EN
VERSION:2.0
BEGIN:VEVENT
SUMMARY:CHREN-INPA Evening Lecture: Is the Justice Cascade Over? Accou
 ntability in an Era of Impunity. (Kathryn Sikkink)
UID:98B08043-E84A-40A5-8451-45D064E969F0
DESCRIPTION:CHREN-INPA Evening Lecture: "Is the Justice Cascade Over? 
 Accountability in an Era of Impunity." (Kathryn Sikkink) Date and Time
 : Tuesday\, 24 June 2025\, 18:00-19:30. Location: CHREN\, Andreij-Sach
 arow-Platz 1\, 90403 Nürnberg. Main Lecture Hall. More information: h
 ttps://www.humanrights.fau.de/2025/05/28/veranstaltungshinweis-abendvo
 rtrag-mit-harvard-professorin-kathryn-sikkink/
DTSTART:20250624T160000Z
DTEND:20250624T173000Z
LOCATION:Main Lecture Hall\, CHREN\, Andreij-Sacharow-Platz 1\, 90403 
 Nürnberg
DTSTAMP:20260420T213650Z
END:VEVENT
END:VCALENDAR