BEGIN:VCALENDAR
METHOD:PUBLISH
PRODID:www-phil-fau-eu//Events//EN
VERSION:2.0
BEGIN:VEVENT
SUMMARY:Vortrag: Dantes Göttliche Komödie in den bildenden Künsten 
 (Dr. Adrian La Salvia\, Direktor der Stadtbibliothek Erlangen und Geis
 teswissenschaftler)
UID:3009C039-5FB1-4DB7-B4EF-40ABE7ED6B98
DESCRIPTION:Vortrag: Dantes Göttliche Komödie in den bildenden Küns
 ten (Dr. Adrian La Salvia\, Direktor der Stadtbibliothek Erlangen und 
 Geisteswissenschaftler) Termin: Dienstag\, 24. Juni 2025\, 19:00 Uhr O
 rt: Bürgersaal\, Stadtbibliothek Erlangen Marktplatz 1\, 91054 Erlang
 en Weitere Informationen: https://www.romanistik.phil.fau.de/2025/05/3
 0/dantes-goettliche-komoedie-in-den-bildenden-kuensten/
DTSTART:20250624T170000Z
DTEND:20250624T183000Z
LOCATION:Bürgersaal\, Stadtbibliothek Erlangen Marktplatz 1\, 91054 E
 rlangen
DTSTAMP:20260420T213750Z
END:VEVENT
END:VCALENDAR