BEGIN:VCALENDAR
METHOD:PUBLISH
PRODID:www-phil-fau-eu//Events//EN
VERSION:2.0
BEGIN:VEVENT
SUMMARY:Guest Lecture: Fun\, Fantasy and Caricature: Virginia Woolf's 
 Orlando (Prof. Dr. Anette Pankratz)
UID:B6C9912F-A7A4-4331-9346-E2747CC4B835
DESCRIPTION:Guest Lecture: Fun\, Fantasy and Caricature: Virginia Wool
 f&#8217\;s Orlando (Prof. Dr. Anette Pankratz) Date: 25. June 2025 Tim
 e: 10:15 &#8211\; 11:45 Room C301\, Bismarckstr. 1\, Erlangen More inf
 ormation: https://www.angam.phil.fau.de/events/guest-lecture-prof-dr-a
 nette-pankratz-fun-fantasy-and-caricature-virginia-woolfs-orlando/
DTSTART:20250625T081500Z
DTEND:20250625T094500Z
LOCATION:Room C301\, Bismarckstr. 1\, Erlangen
DTSTAMP:20260420T213517Z
END:VEVENT
END:VCALENDAR