BEGIN:VCALENDAR
METHOD:PUBLISH
PRODID:www-phil-fau-eu//Events//EN
VERSION:2.0
BEGIN:VEVENT
SUMMARY:Vortrag: Remembering Ike's Military and Foreign Policy (Prof. 
 Laura Wood\, Texas Christian University)
UID:9EF619CB-0ECF-4293-9335-0AA5184F287F
DESCRIPTION:Vortragstitel: Remembering Ike&#8217\;s Military and Forei
 gn Policy &#8212\; Guest by Prof. Laura Wood (Texas Christian Universi
 ty) Datum: 25.06.2025\, 18:15-19:45 Uhr Ort: Bismarckstr. 1\, C 301 Li
 nk: https://www.angam.phil.fau.de/2025/05/09/guest-lecture-by-prof-lau
 ra-wood-texas-christian-university-remembering-ikes-military-and-forei
 gn-policy-25-06-2025/
DTSTART:20250625T161500Z
DTEND:20250625T174500Z
LOCATION:C 301\, Bismarckstr. 1\, Erlangen
DTSTAMP:20260420T213516Z
END:VEVENT
END:VCALENDAR