BEGIN:VCALENDAR
METHOD:PUBLISH
PRODID:www-phil-fau-eu//Events//EN
VERSION:2.0
BEGIN:VEVENT
SUMMARY:Filmvorführung und Diskussion: 6 Jahre Klimanotstand in Erlan
 gen - Klimapolitik zwischen Ambition und Wirklichkeit
UID:0E2FA31B-81C2-4AA6-A86E-FC7A25B11D54
DESCRIPTION:1. Juli 2025\, 17 &#8211\; 19 Uhr Filmvorführung und Disk
 ussion: 6 Jahre Klimanotstand in Erlangen &#8211\; Klimapolitik zwisch
 en Ambition und Wirklichkeit Hörsaal Physiologie (Raum 00.012)\, Univ
 ersitätsstr. 17\, 91054 Erlangen Weitere Infos: https://www.pol.phil.
 fau.de/2025/06/03/klimanotstand-erlangen/
DTSTART:20250701T150000Z
DTEND:20250701T170000Z
LOCATION:Hörsaal Physiologie (Raum 00.012)\, Universitätsstr. 17\, 9
 1054 Erlangen
DTSTAMP:20260420T213633Z
END:VEVENT
END:VCALENDAR