BEGIN:VCALENDAR
METHOD:PUBLISH
PRODID:www-phil-fau-eu//Events//EN
VERSION:2.0
BEGIN:VEVENT
SUMMARY:Vortrag: Fachunterricht mit digitalen Medien gestalten - Konze
 ptualisierung des relevanten Professionswissens und Aspekte der Unterr
 ichtsqualität aus mathematikdidaktischer Perspektive (Dr. Timo Kosiol
 \, LMU München/OPvGU Magdeburg)
UID:E4735634-1BF0-4B3B-9942-897D350549C0
DESCRIPTION:Vortrag im Rahmen des interdisziplinären Forschungskolloq
 uiums Bildungsforschung: empirisch &#8211\; interdisziplinär! Early c
 areer researchers im Dialog 11:30 &#8211\; 13:00 Uhr: "Fachunterricht 
 mit digitalen Medien gestalten &#8211\; Konzeptualisierung des relevan
 ten Professionswissens und Aspekte der Unterrichtsqualität aus mathem
 atikdidaktischer Perspektive" (Dr. Timo Kosiol\, LMU München/OPvGU Ma
 gdeburg) Hybrid: Raum 2.040\, Regensburger Straße 160\, 90478 Nürnbe
 rg und online via Zoom Zoom-Link: https://fau.zoom-x.de/j/67431129579?
 pwd=lrAcSML7fxJBi04q0zwjXlVEC3lNyf.1 Weitere Informationen: https://ww
 w.studon.fau.de/studon/goto.php?target=crs_4363273
DTSTART:20250702T093000Z
DTEND:20250702T110000Z
LOCATION:Hybrid: Raum 2.040\, Regensburger Straße 160\, 90478 Nürnbe
 rg und online via Zoom
DTSTAMP:20260420T213608Z
END:VEVENT
END:VCALENDAR