BEGIN:VCALENDAR
METHOD:PUBLISH
PRODID:www-phil-fau-eu//Events//EN
VERSION:2.0
BEGIN:VEVENT
SUMMARY:Vortrag: Reproductive Dystopia (Prof. Alys Eve Weinbaum\, Univ
 ersity of Washington\, Seattle)
UID:C42E1B6D-34A5-4D2F-95A4-185CA0EF202F
DESCRIPTION:Vortragstitel: Reproductive Dystopia &#8212\; Guest Lectur
 e by Prof. Alys Eve Weinbaum (University of Washington\, Seattle) Datu
 m: 03.07.2025\, 18:00 Uhr s.t. Ort: KH 1.011 (Senatssaal Kollegienhaus
 )\, Universitätsstraße 15\, 91054 Erlangen Link: https://www.angam.p
 hil.fau.de/2025/05/27/reproductive-dystopia-guest-lecture-by-prof-alys
 -eve-weinbaum-university-of-washington-seattle-july-3-2025/
DTSTART:20250703T160000Z
DTEND:20250703T180000Z
LOCATION:KH 1.011 (Senatssaal Kollegienhaus)\, Universitätsstraße 15
 \, 91054 Erlangen
DTSTAMP:20260420T213644Z
END:VEVENT
END:VCALENDAR