BEGIN:VCALENDAR
METHOD:PUBLISH
PRODID:www-phil-fau-eu//Events//EN
VERSION:2.0
BEGIN:VEVENT
SUMMARY:Vortrag: Inklusiver Geographieunterricht - Theoretische\, konz
 eptionelle und empirische Zugänge aus fachdidaktischer Perspektive (A
 nn-Sophie Winklmaier\, FAU)
UID:4E6A2F01-D60E-42B9-8A79-58229BCE3A8B
DESCRIPTION:Vortrag im Rahmen des interdisziplinären Forschungskolloq
 uiums Bildungsforschung: empirisch &#8211\; interdisziplinär! Early c
 areer researchers im Dialog 11:30 &#8211\; 13:00 Uhr: "Inklusiver Geog
 raphieunterricht &#8211\; Theoretische\, konzeptionelle und empirische
  Zugänge aus fachdidaktischer Perspektive" (Ann-Sophie Winklmaier\, F
 AU) Hybrid: Raum 2.040\, Regensburger Straße 160\, 90478 Nürnberg un
 d online via Zoom Zoom-Link: https://fau.zoom-x.de/j/67431129579?pwd=l
 rAcSML7fxJBi04q0zwjXlVEC3lNyf.1 Weitere Informationen: https://www.stu
 don.fau.de/studon/goto.php?target=crs_4363273
DTSTART:20250716T093000Z
DTEND:20250716T110000Z
LOCATION:Hybrid: Raum 2.040\, Regensburger Straße 160\, 90478 Nürnbe
 rg und online via Zoom
DTSTAMP:20260420T213609Z
END:VEVENT
END:VCALENDAR