BEGIN:VCALENDAR
METHOD:PUBLISH
PRODID:www-phil-fau-eu//Events//EN
VERSION:2.0
BEGIN:VEVENT
SUMMARY:Kurzvortrag und Textdiskussion: Reflexive Anthropology. On the
  Method-guided Construction of Premises in Social Theory (Prof. Dr. Ge
 sa Lindemann\, Universität Oldenburg)
UID:CBCDB157-A21E-40C4-92D1-95EE0215DFBF
DESCRIPTION:Prof. Dr. Gesa Lindemann (Universität Oldenburg) Kurzvort
 rag in deutscher Sprache mit Kommentar und anschließender Textdiskuss
 ion: "Reflexive Anthropology. On the Method-guided Construction of Pre
 mises in Social Theory" 18.15 Uhr &#8211\; 19.45 Uhr\; Raum 5.013\, Ko
 chstraße 4\, Erlangen Online-Teilnahme (via Zoom möglich): https://f
 au.zoom-x.de/j/5024327315 Kontakt und Voranmeldung bei Online-Teilnahm
 e: alexander.antony@fau.de
DTSTART:20250721T161500Z
DTEND:20250721T174500Z
LOCATION:Hybrid: Raum 5.013\, Kochstraße 4\, Erlangen und online via Zoom
DTSTAMP:20260420T213631Z
END:VEVENT
END:VCALENDAR