BEGIN:VCALENDAR
METHOD:PUBLISH
PRODID:www-phil-fau-eu//Events//EN
VERSION:2.0
BEGIN:VEVENT
SUMMARY:KoWinChi-Workshop: Chinas Wissenschaftssystem II (Wissenschaft
 sorganisationen und Think-Tanks) (Prof. Dr. Andrea Bréard und Kevin B
 ockholt)
UID:9B66AD28-8D73-4113-B4D8-D3C2250A2CB1
DESCRIPTION:22.07.2025 KoWinChi-Workshop 10:00 &#8211\; 16:00 Uhr: Chi
 nas Wissenschaftssystem II (Wissenschaftsorganisationen und Think-Tank
 s) (Prof. Dr. Andrea Bréard und Kevin Bockholt) Gebäude Z6\, Hubland
  Süd (Zentrales Hörsaal- und Seminargebäude)\, Am Hubland\, 97074 W
 ürzburg Weitere Informationen: https://www.phil.uni-wuerzburg.de/kowi
 nchi/veranstaltungen/upcoming/news/chinas-wissenschaftssystem-ii-wisse
 nschaftsorganisationen-und-think-tanks-1/
DTSTART:20250722T080000Z
DTEND:20250722T140000Z
LOCATION:Gebäude Z6\, Hubland Süd (Zentrales Hörsaal- und Seminarge
 bäude)\, Am Hubland\, 97074 Würzburg
DTSTAMP:20260420T214254Z
END:VEVENT
END:VCALENDAR