BEGIN:VCALENDAR
METHOD:PUBLISH
PRODID:www-phil-fau-eu//Events//EN
VERSION:2.0
BEGIN:VEVENT
SUMMARY:PhD projects (workshop reports): Quantitative and qualitative 
 methods for analysis: Corpus-based Humanitarian Discourse Analysis (HD
 A) framework applied to EU texts on war and war-related topics (Desire
 e Russo\, Visiting researcher\, University of Bari)
UID:7D56092D-CEDF-4303-AE7D-E2EAF83A42D0
DESCRIPTION:Digital Humanities Colloquium Time: Wednesdays\, 4:00 PM t
 o 6:00 PM Location: Room 3.17 (3rd floor)\, Werner-von-Siemens-Straße
  61\, 91052 Erlangen Registration for attending the colloquium talks i
 s NOT required. Talks\, Projects &#43\; Thesis Presentations (Talks wi
 ll be held in English.) Date Agenda 23.04.2025 Introduction 30.04.2025
  Michaela Mahlberg\, DHSS FAU: How Do You Write a Good MA Dissertation
  in Digital Humanities? 7.05.2025 Katrin Rohrbacher\, DHSS FAU: Modeli
 ng Fictional Worlds: A Quantitative Approach to Setting 14.05.2025 MA 
 projects (workshop reports): Cristian Ortega\, DHSS FAU: Corpus creati
 on and analysis and a mixed-methods approach to corporeality in poetry
  slam texts Hyunsook Kim\, DHSS FAU: Nam June Paik&#8217\;s A Tribute 
 to John Cage: Linking Data in Contemporary Art Using Semantic Principl
 es 21.05.2025 Svenja Guhr\, Institut für Sprach- und Literaturwissens
 chaft\, Technische Universität Darmstadt: Literary Soundscapes &#8211
 \; Operationalization and Analysis 28.05.2025 Lauren Tilton\, Departme
 nt of Rhetoric and Communications\, University of Richmond : Distant V
 iewing 4.06.2025 MA projects (workshop reports): Adrian Schneider\, DH
 SS\, FAU: Smart\, green\, sustainable? The role of sustainability in G
 erman smart city strategy papers. 11.06.2025 Andreas Wagner & Dominik 
 Kremer &#43\; Nathan Dykes & Michaela Mahlberg\, DHSS\, FAU: DH Tools 
 in Context 18.06.2025 MA projects (workshop reports): Shuyi Li\, DHSS\
 , FAU: Understandings of explainable AI (XAI) in research communities.
  A mixed-method approach using topic modelling and SNA 25.06.2025 Finn
  Dammann\, Geographie\, FAU: Geographies of digital infrastructures 2.
 07.2025 Markus Tischner\, FAU Lehre: From prompt engineering workflows
  to custom gpts. Introduction and live development 9.07.2025 PhD proje
 cts (workshop reports): Marizza Anna Mercario\, Visiting researcher\, 
 University of Bari: Digital Humanities and Language Learning: Impact A
 ssessment for Data-Driven Learning 16.07.2025 No Colloq
DTSTART:20250723T140000Z
DTEND:20250723T160000Z
LOCATION:Room 3.17 (3rd floor)\, Werner-von-Siemens-Straße 61\, 91052
  Erlangen
DTSTAMP:20260420T213643Z
END:VEVENT
END:VCALENDAR