BEGIN:VCALENDAR
METHOD:PUBLISH
PRODID:www-phil-fau-eu//Events//EN
VERSION:2.0
BEGIN:VEVENT
SUMMARY:Vortrag: Alles sauber und ordentlich. KZ-Gedenkstätten zwisch
 en Sicherung\, Tradierung und Verlust von Erinnerung. (Dr. Nina Rabuza
 \, Universität Innsbruck)
UID:0BEC6519-2C7E-4B45-88DC-0139A38292D3
DESCRIPTION:Datum: 24.07.2025\, 16:15 Uhr Vortragende: Dr. Nina Rabuza
  (Universität Innsbruck) Titel: Alles sauber und ordentlich. KZ-Geden
 kstätten zwischen Sicherung\, Tradierung und Verlust von Erinnerung. 
 Raum: 00.021\, Bismarckstraße 1a Der Vortrag findet im Rahmen des For
 schungskolloquiums Pädagogik-Gesellschaft-Organisation am Lehrstuhl f
 ür Pädagogik mit dem Schwerpunkt Organisationspädagogik statt. Weit
 ere Informationen: https://www.paedagogik.phil.fau.de/institut/lehrstu
 hl1/forschungskolloquium-paedagogik-gesellschaft-organisation/ Mehr zu
 m Vortrag: KZ-Gedenkstätten sind zweifellos unverzichtbare Institutio
 nen des Gedächtnisses und der Erinnerung an den nationalsozialistisch
 en Terror und die Shoah. Sie dienen sowohl als zentrale Orte der Traue
 r und des Gedenkens\, als Beweise für die nationalsozialistischen Ver
 brechen sowie als Forschungs- und Bildungsstätten. In diesem Sinne si
 chern sie Wissen über die Vergangenheit der nationalsozialistischen V
 erfolgung für Gegenwart und Zukunft. Jedoch geht die Medialisierung u
 nd Institutionalisierung der Vergangenheit mit einem gleichzeitigen Ve
 rlust von Erinnerung und Gedächtnis einher\, wie etwa die Literaturwi
 ssenschaftlerin und Shoah-Überlebende Ruth Klüger in ihren Erinnerun
 gen weiter leben bemerkt: Aber das KZ als Ort? [&#8230\;] &#8211\; das
  Wort Zeitschaft sollte es geben\, um zu vermitteln\, was ein Ort in d
 er Zeit ist\, zu einer gewissen Zeit\, weder vorher noch nachher. (Kl
 üger 2017\, S. 77) Der Vortrag untersucht anhand der KZ-Gedenkstätte
  Dachau exemplarisch das mitunter paradoxe Verhältnis von Sicherung\,
  Tradierung und Verlust von Erinnerung in den verschiedenen Gestaltung
 s- und Institutionalisierungsphasen des Gedenkortes.
DTSTART:20250724T141500Z
DTEND:20250724T154500Z
LOCATION:Raum 00.021\, Bismarckstraße 1a\, Erlangen
DTSTAMP:20260420T213518Z
END:VEVENT
END:VCALENDAR