BEGIN:VCALENDAR
METHOD:PUBLISH
PRODID:www-phil-fau-eu//Events//EN
VERSION:2.0
BEGIN:VEVENT
SUMMARY:Wie wurde Jesus gekreuzigt? Stimmen unsere Kreuzesdarstellunge
 n? Was hat es mit den Wundmalen am Körper des Franziskus auf sich? Ei
 n Abend über die Wundmale Jesu in Archäologie\, Kunst und Musik
UID:040000008200E00074C5B7101A82E0080000000020EB01DCA6F1DB010000000000
 00000010000000B6B27120D61A344597E3793094B666BE
DESCRIPTION:24. Juli 2025 um 17:00 Uhr: Wie wurde Jesus gekreuzigt? St
 immen unsere Kreuzesdarstellungen? Was hat es mit den Wundmalen am Kö
 rper des Franziskus auf sich? Ein Abend über die Wundmale Jesu in Arc
 häologie\, Kunst und Musik Evangelische Gemeinde Erlangen-Altstadt (G
 emeindehaus b11)\, Bayreuther Str. 11\, 91054 Erlangen Weitere Informa
 tionen: https://www.theologie.fau.de/die-wundmale-jesu-waehrend-der-kr
 euzigung-und-am-koerper-des-franziskus-2/
DTSTART:20250724T150000Z
DTEND:20250724T153000Z
LOCATION:Evangelische Gemeinde Erlangen-Altstadt (Gemeindehaus b11)\, 
 Bayreuther Str. 11\, 91054 Erlangen
DTSTAMP:20260420T213607Z
END:VEVENT
END:VCALENDAR