BEGIN:VCALENDAR
METHOD:PUBLISH
PRODID:www-phil-fau-eu//Events//EN
VERSION:2.0
BEGIN:VEVENT
SUMMARY:International Symposium Inscribing Identity: Epigraphic Habits
  in Medieval China
UID:040000008200E00074C5B7101A82E00800000000002ECF88A2F4DB010000000000
 0000001000000065EC19EC6AF083449A4C20C7C66B43DF
DESCRIPTION:Freitag/Samstag 01.-02. August: International Symposium In
 scribing Identity: Epigraphic Habits in Medieval China\, New Frontiers
  in the Study of Medieval China 00.3\, Philosophisches Seminargebäude
  (PSG III)\, Kochstraße 6a\, 91054 Erlangen https://www.reed.edu/new-
 frontiers/2025_fau_erlangen/workshop.html Weitere Informationen: Inter
 nationales Symposium: Inscribing Identity – Epigraphic Habits in Med
 ieval China
DTSTART:20250801T070000Z
DTEND:20250802T143000Z
LOCATION:00.3\, Philosophisches Seminargebäude (PSG III)\, Kochstraß
 e 6a\, 91054 Erlangen
DTSTAMP:20260420T213651Z
END:VEVENT
END:VCALENDAR