BEGIN:VCALENDAR
METHOD:PUBLISH
PRODID:www-phil-fau-eu//Events//EN
VERSION:2.0
BEGIN:VEVENT
SUMMARY:Abschlusstagung des Projektverbunds LeadCom - Digital Leadersh
 ip & Digitale Kommunikations- und Kooperationsentwicklung an Schulen
UID:040000008200E00074C5B7101A82E008000000004091FD4D51FADB010000000000
 000000100000009463D8F82F967D42B5550516B9CFFC14
DESCRIPTION:18. &#8211\; 19. September 2025: Abschlusstagung des Proje
 ktverbunds LeadCom &#8211\; Digital Leadership & Digitale Kommunikatio
 ns- und Kooperationsentwicklung an Schulen Campus Regensburger Straße
  (Hauptgebäude)\, Regensburger Straße 160\, 90478 Nürnberg Programm
  und weitere Informationen: https://www.mpaed2025.fau.de Anmeldung bis
  9. September: https://www.conftool.com/mpaed2025/
DTSTART:20250917T220000Z
DTEND:20250918T220000Z
LOCATION:Campus Regensburger Straße (Hauptgebäude)\, Regensburger St
 raße 160\, 90478 Nürnberg
DTSTAMP:20260420T213519Z
END:VEVENT
END:VCALENDAR