BEGIN:VCALENDAR
METHOD:PUBLISH
PRODID:www-phil-fau-eu//Events//EN
VERSION:2.0
BEGIN:VEVENT
SUMMARY:Herbsttagung der Deutschen Gesellschaft für Erziehungswissens
 chaft (DGfE)\, Sektion Medienpädagogik
UID:040000008200E00074C5B7101A82E0080000000060703CEAACF1DB010000000000
 000000100000006436D368A715774688D1278FDFC65AAF
DESCRIPTION:18.-19. September 2025: Herbsttagung der Deutschen Gesells
 chaft für Erziehungswissenschaft (DGfE)\, Sektion Medienpädagogik Ca
 mpus Regensburger Straße (Hauptgebäude)\, Regensburger Straße 160\,
  90478 Nürnberg Die Herbsttagung ist dem Thema Medienpädagogik und K
 ommunikation gewidmet: Wie können Individuen\, Gruppen\, Institutione
 n\, aber auch Gesellschaft Kommunikation mit Medien besser gestalten u
 nd wie kann die kontinuierliche Veränderung von Kommunikation begleit
 et werden? Die in diesem Zusammenhang zu beobachtenden Disruptionen we
 rden mittels Konzepten wie tiefgreifender Mediatisierung\, einer Kultu
 r der Digitalität bzw. Postdigitalität in den Blick genommen. Ein zu
 sätzlicher Teil des Programms wird die Abschlusstagung des Projektver
 bunds LeadCom mit den Themen Digitale Kommunikation und Kooperation so
 wie Digital Leadership in der Schulentwicklung sein. Programm und weit
 ere Informationen: https://www.mpaed2025.fau.de/ Anmeldung: https://ww
 w.conftool.com/mpaed2025/ (Anmeldefrist: 10.09.2025)
DTSTART:20250917T220000Z
DTEND:20250918T220000Z
LOCATION:Campus Regensburger Straße (Hauptgebäude)\, Regensburger St
 raße 160\, 90478 Nürnberg
DTSTAMP:20260420T213607Z
END:VEVENT
END:VCALENDAR