BEGIN:VCALENDAR
METHOD:PUBLISH
PRODID:www-phil-fau-eu//Events//EN
VERSION:2.0
BEGIN:VEVENT
SUMMARY:Dialog zur Internationalisierung im Lehramt 2025: Studentische
  Eigeninitiative zur Internationalisierung im Lehramt
UID:17E6C698-6B50-46B1-B89C-6B9CF4360F40
DESCRIPTION:28. Oktober\, 15 &#8211\; 17 Uhr: Dialog zur International
 isierung im Lehramt 2025 &#8211\; Thema Studentische Eigeninitiative z
 ur Internationalisierung im Lehramt Sitzungssaal Raum 0.031\, Campus R
 egensburger Str.\, Regensburger Str. 160\, Nürnberg Weitere Informati
 onen: www.teachedinter.fau.de
DTSTART:20251028T140000Z
DTEND:20251028T160000Z
LOCATION:Sitzungssaal Raum 0.031\, Campus Regensburger Str.\, Regensbu
 rger Str. 160\, Nürnberg
DTSTAMP:20260420T213800Z
END:VEVENT
END:VCALENDAR