BEGIN:VCALENDAR
METHOD:PUBLISH
PRODID:www-phil-fau-eu//Events//EN
VERSION:2.0
BEGIN:VEVENT
SUMMARY:Gastvortrag: ...rauben und plundern mit frevel kloster und sch
 losser. Die stürmenden Bauern und der Herrenkrieg von 1525 (Prof. Dr.
  Andreas Rüther\, Bielefeld)
UID:EE900B9B-1D59-4DA6-9E06-3420B34548E8
DESCRIPTION:18.15 &#8211\; 19.45 Uhr: &#8230\;rauben und plundern mit 
 frevel kloster und schlosser. Die stürmenden Bauern und der Herrenkri
 eg von 1525 (Prof. Dr. Andreas Rüther\, Bielefeld) Raum 00.4\, PSG II
 I\, Kochstr. 6a\, Erlangen Gastvortrag in den Oberseminaren zur Bayeri
 schen und Fränkischen Landesgeschichte von Prof. Seiderer und Prof. Z
 eilinger. Weitere Informationen: https://www.geschichte.phil.fau.de/le
 hrstuhl-fuer-bayerische-und-fraenkische-landesgeschichte/veranstaltung
 en/#sprungmarke1
DTSTART:20251029T171500Z
DTEND:20251029T184500Z
LOCATION:Raum PSG 00.4\, Kochstr. 6a\, Erlangen
DTSTAMP:20260420T213631Z
END:VEVENT
END:VCALENDAR