BEGIN:VCALENDAR
METHOD:PUBLISH
PRODID:www-phil-fau-eu//Events//EN
VERSION:2.0
BEGIN:VEVENT
SUMMARY:Vortrag: Die Stiftsbibliothek St. Gallen Die Seelenapotheke (D
 r. Cornel Dora\, St. Gallen)
UID:C7F5EC34-F084-41C7-AF39-ABA2A622502A
DESCRIPTION:Vortrag: "Die Stiftsbibliothek St. Gallen Die Seelenapothe
 ke" (Dr. Cornel Dora\, St. Gallen) Mittwoch\, 19.30 Uhr Alte Universit
 ätsbibliothek 2. OG\, Sitzungssaal (Eingang Schuhstraße) Universitä
 tsstrasse 4 91054 Erlangen Anlässlich des Vortrages wird eine über 
 1000 Jahre alte Reichenauer Prachthandschrift (MS 12) ausgestellt. Wei
 tere Informationen: https://www.mittelalter.phil.fau.de/aktuelles/
DTSTART:20251112T183000Z
DTEND:20251112T200000Z
LOCATION:Alte Universitätsbibliothek 2. OG\, Sitzungssaal (Eingang Sc
 huhstraße) Universitätsstrasse 4 91054 Erlangen
DTSTAMP:20260420T213759Z
END:VEVENT
END:VCALENDAR