BEGIN:VCALENDAR
METHOD:PUBLISH
PRODID:www-phil-fau-eu//Events//EN
VERSION:2.0
BEGIN:VEVENT
SUMMARY:Vortrag: Strategien der Neuen Rechten - Herausforderungen und 
 Empfehlungen für den Umgang mit Rechtsextremismus in der Lehre
UID:46C6A529-0081-452B-946C-6BAD82BF2DB3
DESCRIPTION:Vortrag: "Strategien der Neuen Rechten &#8211\; Herausford
 erungen und Empfehlungen für den Umgang mit Rechtsextremismus in der 
 Lehre" Online-Vortrag am 18.11.2025\, 10.30 &#8211\; 12 Uhr via Zoom A
 nmeldung: https://profilehreplus.de/seminare/lehrhaeppchen-strategien-
 der-neuen-rechten-herausforderungen-und-empfehlungen-fuer-den-umgang-m
 it-rechtsextremismus-in-der-lehre
DTSTART:20251118T093000Z
DTEND:20251118T110000Z
LOCATION:Online
DTSTAMP:20260420T213750Z
END:VEVENT
END:VCALENDAR