BEGIN:VCALENDAR
METHOD:PUBLISH
PRODID:www-phil-fau-eu//Events//EN
VERSION:2.0
BEGIN:VEVENT
SUMMARY:Gastvortrag: Politikwissenschaftliche als postmoderne Ideenges
 chichte oder: Gründeln statt Begründen (PD. Dr. Frauke Höntzsch\, U
 niversität Augsburg)
UID:040000008200E00074C5B7101A82E00800000000404C883C1B65DC010000000000
 00000010000000CC2DDD2037C2984A9D4F3DFC034B6123
DESCRIPTION:Gastvortrag im Rahmen des Colloquiums des Lehrstuhls Polit
 ische Theorie und Ideengeschichte 18 &#8211\; 20 Uhr: Politikwissensch
 aftliche als postmoderne Ideengeschichte oder: Gründeln statt Begrün
 den (PD. Dr. Frauke Höntzsch\, Universität Augsburg) Raum 0.0024\, K
 ollegienhaus\, Erlangen
DTSTART:20251208T170000Z
DTEND:20251208T190000Z
LOCATION:Raum 0.0024\, Kollegienhaus\, Erlangen
DTSTAMP:20260420T214322Z
END:VEVENT
END:VCALENDAR