BEGIN:VCALENDAR
METHOD:PUBLISH
PRODID:www-phil-fau-eu//Events//EN
VERSION:2.0
BEGIN:VEVENT
SUMMARY:Guest Lecture: Repeated Mistakes in App-Based Learning (Dr. Ja
 rl Kleppe Kristensen\, University of Oslo)
UID:BDD5DEE2-3F02-4AE7-9563-22E6B250CD33
DESCRIPTION:Guest lecture: Repeated Mistakes in App-Based Learning (Dr
 . Jarl Kleppe Kristensen\, University of Oslo) 6.15 &#8211\; 7.45 pm R
 oom 02.219\, Nägelsbachstr. 49c\, Erlangen More information: https://
 www.lsdiagnostik.phil.uni-erlangen.de
DTSTART:20251208T171500Z
DTEND:20251208T184500Z
LOCATION:Room 02.219\, Nägelsbachstr. 49c\, Erlangen
DTSTAMP:20260420T213632Z
END:VEVENT
END:VCALENDAR