BEGIN:VCALENDAR
METHOD:PUBLISH
PRODID:www-phil-fau-eu//Events//EN
VERSION:2.0
BEGIN:VEVENT
SUMMARY:Gastvortrag: Universalität und (Mikro-)Geschichte: Der Fall C
 hampollion (Prof. Dr. Markus Messling\, Universität des Saarlandes\, 
 Direktor Käthe Hamburger Kolleg CURE)
UID:F46A19FC-F917-4D8D-B59C-C9FE6689F73B
DESCRIPTION:Gastvortrag: Universalität und (Mikro-)Geschichte: Der Fa
 ll Champollion (Prof. Dr. Markus Messling\, Universität des Saarlande
 s\, Direktor Käthe Hamburger Kolleg CURE) 27.01.2026\, 14:15 &#8211\;
  15:45 Uhr Raum 00.026\, EG\, Schwarz-Weiß-Saal\, Universitätsstr. 1
 9\, Erlangen Weitere Informationen: https://www.literaturundoeffentlic
 hkeit.phil.fau.de/2026/01/15/ruth-klueger-forum-am-27-januar-2026-gast
 vortrag-von-prof-dr-markus-messling/
DTSTART:20260127T131500Z
DTEND:20260127T144500Z
LOCATION:Raum 00.026\, EG\, Schwarz-Weiß-Saal\, Universitätsstr. 19\
 , Erlangen
DTSTAMP:20260422T093247Z
END:VEVENT
END:VCALENDAR