BEGIN:VCALENDAR
METHOD:PUBLISH
PRODID:www-phil-fau-eu//Events//EN
VERSION:2.0
BEGIN:VEVENT
SUMMARY:Career Center: FAU JobInsights live - Berufsfelder mit Sprache
 nstudium: Studierende fragen\, Alumni antworten
UID:040000008200E00074C5B7101A82E0080000000060A9ED1745D2DC010000000000
 0000001000000050469E2D7D24EB419D536BEC1B2B8A69
DESCRIPTION:FAU JobInsights live &#8211\; Berufsfelder mit Sprachenstu
 dium: Studierende fragen\, Alumni antworten Gemeinsam mit dem Alumni-M
 anagement der FAU organisiert der Career Service eine spannende Frager
 unde\, in der erfahrene Ehemalige ihre individuellen Karrierewege vors
 tellen und ehrliche Einblicke in ihren Berufsalltag geben. Studierende
  können die Gelegenheit\, nutzen in lockerer Atmosphäre alle Fragen 
 rund um ihre berufliche Zukunft zu stellen. Das erwartet Sie: * Begrü
 ßung und Beginn der Veranstaltung * Vorstellung der Referentinnen und
  Referenten sowie ihrer Studien- und Berufswege * Offene Fragerunde im
  Plenum * Persönlicher Austausch bei Getränken und Snacks Unsere Ref
 erentinnen und Referenten: * Milena Belogortseva &#8211\; Online Marke
 ting (Affiliate Manager North America bei Condor\, Frankfurt) * Cedric
  Dütsch &#8211\; Archivbeschäftigter (digitale Langzeitarchivierung)
  & Doktorand an der FAU * Katharina Neumeier &#8211\; Expertin Qualit
 ätskontrolle bei Vetter Pharma * Imke Zottnick-Linster &#8211\; Alumn
 i-Management an der FAU Anmeldung: Bitte melden Sie sich vorab über S
 tudOn an: https://www.studon.fau.de/studon/go/crs/6891333
DTSTART:20260505T161500Z
DTEND:20260505T181500Z
LOCATION:•Philosophische Fakultät\, Raum 00.15 PSG\, Kochstr. 6a\, 
 Erlangen
DTSTAMP:20260423T145656Z
END:VEVENT
END:VCALENDAR