BEGIN:VCALENDAR
METHOD:PUBLISH
PRODID:www-phil-fau-eu//Events//EN
VERSION:2.0
BEGIN:VEVENT
SUMMARY:Gastvortrag: Süd-Nord-Gefälle. Zu einer neu entdeckten Zeich
 nung Hans Schäufelins\, Altbekanntem von Dürer und Erstaunlichem von
  Leonardo (Dr. Christof Metzger\, Albertina Wien)
UID:040000008200E00074C5B7101A82E008000000005089440342D2DC010000000000
 00000010000000A1C56B46F3C98E4F94F7F6FF357B5539
DESCRIPTION:Veranstaltet in Zusammenarbeit mit der evangelischen stadt
 akademie nürnberg Zeit: Dienstag\, 14. Juli 2026\, 18:30 Ort: Eckstei
 n\, Burgstraße 1-3\, 90403 Nürnberg
DTSTART:20260714T163000Z
DTEND:20260714T180000Z
LOCATION:Eckstein\, Burgstraße 1-3 Nürnberg
DTSTAMP:20260423T161924Z
END:VEVENT
END:VCALENDAR